BEGIN:VCALENDAR
VERSION:2.0
PRODID:-// - ECPv6.15.20//NONSGML v1.0//EN
CALSCALE:GREGORIAN
METHOD:PUBLISH
X-ORIGINAL-URL:https://bearnaked.club
X-WR-CALDESC:Events for 
REFRESH-INTERVAL;VALUE=DURATION:PT1H
X-Robots-Tag:noindex
X-PUBLISHED-TTL:PT1H
BEGIN:VTIMEZONE
TZID:America/Chicago
BEGIN:DAYLIGHT
TZOFFSETFROM:-0600
TZOFFSETTO:-0500
TZNAME:CDT
DTSTART:20250309T080000
END:DAYLIGHT
BEGIN:STANDARD
TZOFFSETFROM:-0500
TZOFFSETTO:-0600
TZNAME:CST
DTSTART:20251102T070000
END:STANDARD
BEGIN:DAYLIGHT
TZOFFSETFROM:-0600
TZOFFSETTO:-0500
TZNAME:CDT
DTSTART:20260308T080000
END:DAYLIGHT
BEGIN:STANDARD
TZOFFSETFROM:-0500
TZOFFSETTO:-0600
TZNAME:CST
DTSTART:20261101T070000
END:STANDARD
BEGIN:DAYLIGHT
TZOFFSETFROM:-0600
TZOFFSETTO:-0500
TZNAME:CDT
DTSTART:20270314T080000
END:DAYLIGHT
BEGIN:STANDARD
TZOFFSETFROM:-0500
TZOFFSETTO:-0600
TZNAME:CST
DTSTART:20271107T070000
END:STANDARD
END:VTIMEZONE
BEGIN:VEVENT
DTSTART;TZID=America/Chicago:20261226T130000
DTEND;TZID=America/Chicago:20261226T180000
DTSTAMP:20260422T164806
CREATED:20260125T002132Z
LAST-MODIFIED:20260125T002132Z
UID:44663-1798290000-1798308000@bearnaked.club
SUMMARY:4th Saturday afternoon Steamworks Bear Hump party
DESCRIPTION:
URL:https://bearnaked.club/event/4th-saturday-afternoon-steamworks-bear-hump-party-61/
LOCATION:Steamworks\, 3246 N. Halsted\, Chicago\, IL\, 60657\, United States
END:VEVENT
BEGIN:VEVENT
DTSTART;TZID=America/Chicago:20261230T193000
DTEND;TZID=America/Chicago:20261230T203000
DTSTAMP:20260422T164806
CREATED:20260125T002036Z
LAST-MODIFIED:20260125T002036Z
UID:44661-1798659000-1798662600@bearnaked.club
SUMMARY:Wednesday evening play party
DESCRIPTION:
URL:https://bearnaked.club/event/wednesday-evening-play-party-8/
LOCATION:Touche\, 6412 N. Clark\, Chicago\, IL\, 60626\, United States
END:VEVENT
END:VCALENDAR