BEGIN:VCALENDAR
VERSION:2.0
PRODID:-// - ECPv6.15.20//NONSGML v1.0//EN
CALSCALE:GREGORIAN
METHOD:PUBLISH
X-ORIGINAL-URL:https://bearnaked.club
X-WR-CALDESC:Events for 
REFRESH-INTERVAL;VALUE=DURATION:PT1H
X-Robots-Tag:noindex
X-PUBLISHED-TTL:PT1H
BEGIN:VTIMEZONE
TZID:America/Chicago
BEGIN:DAYLIGHT
TZOFFSETFROM:-0600
TZOFFSETTO:-0500
TZNAME:CDT
DTSTART:20250309T080000
END:DAYLIGHT
BEGIN:STANDARD
TZOFFSETFROM:-0500
TZOFFSETTO:-0600
TZNAME:CST
DTSTART:20251102T070000
END:STANDARD
BEGIN:DAYLIGHT
TZOFFSETFROM:-0600
TZOFFSETTO:-0500
TZNAME:CDT
DTSTART:20260308T080000
END:DAYLIGHT
BEGIN:STANDARD
TZOFFSETFROM:-0500
TZOFFSETTO:-0600
TZNAME:CST
DTSTART:20261101T070000
END:STANDARD
BEGIN:DAYLIGHT
TZOFFSETFROM:-0600
TZOFFSETTO:-0500
TZNAME:CDT
DTSTART:20270314T080000
END:DAYLIGHT
BEGIN:STANDARD
TZOFFSETFROM:-0500
TZOFFSETTO:-0600
TZNAME:CST
DTSTART:20271107T070000
END:STANDARD
END:VTIMEZONE
BEGIN:VEVENT
DTSTART;TZID=America/Chicago:20260624T193000
DTEND;TZID=America/Chicago:20260624T203000
DTSTAMP:20260422T183723
CREATED:20260120T002602Z
LAST-MODIFIED:20260120T002602Z
UID:44437-1782329400-1782333000@bearnaked.club
SUMMARY:Wednesday evening play party
DESCRIPTION:
URL:https://bearnaked.club/event/wednesday-evening-play-party-4/
LOCATION:Touche\, 6412 N. Clark\, Chicago\, IL\, 60626\, United States
END:VEVENT
BEGIN:VEVENT
DTSTART;TZID=America/Chicago:20260627T130000
DTEND;TZID=America/Chicago:20260627T180000
DTSTAMP:20260422T183723
CREATED:20260120T002714Z
LAST-MODIFIED:20260120T002714Z
UID:44441-1782565200-1782583200@bearnaked.club
SUMMARY:4th Saturday afternoon Steamworks Bear Hump party
DESCRIPTION:
URL:https://bearnaked.club/event/4th-saturday-afternoon-steamworks-bear-hump-party-53/
LOCATION:Steamworks\, 3246 N. Halsted\, Chicago\, IL\, 60657\, United States
END:VEVENT
BEGIN:VEVENT
DTSTART;TZID=America/Chicago:20260705T150000
DTEND;TZID=America/Chicago:20260705T160000
DTSTAMP:20260422T183723
CREATED:20260120T003237Z
LAST-MODIFIED:20260120T003237Z
UID:44443-1783263600-1783267200@bearnaked.club
SUMMARY:Sunday Afternoon Touche Event
DESCRIPTION:
URL:https://bearnaked.club/event/sunday-afternoon-touche-event-55/
LOCATION:Touche\, 6412 N. Clark\, Chicago\, IL\, 60626\, United States
END:VEVENT
BEGIN:VEVENT
DTSTART;TZID=America/Chicago:20260710T190000
DTEND;TZID=America/Chicago:20260711T010000
DTSTAMP:20260422T183723
CREATED:20260120T003341Z
LAST-MODIFIED:20260120T003341Z
UID:44445-1783710000-1783731600@bearnaked.club
SUMMARY:2nd Friday evening Steamworks Bear Hump party
DESCRIPTION:
URL:https://bearnaked.club/event/2nd-friday-evening-steamworks-bear-hump-party-51/
LOCATION:Steamworks\, 3246 N. Halsted\, Chicago\, IL\, 60657\, United States
END:VEVENT
BEGIN:VEVENT
DTSTART;TZID=America/Chicago:20260718T180000
DTEND;TZID=America/Chicago:20260718T190000
DTSTAMP:20260422T183723
CREATED:20260120T003600Z
LAST-MODIFIED:20260120T003600Z
UID:44447-1784397600-1784401200@bearnaked.club
SUMMARY:Saturday Night Touche Event
DESCRIPTION:
URL:https://bearnaked.club/event/saturday-night-touche-event-86/
LOCATION:Touche\, 6412 N. Clark\, Chicago\, IL\, 60626\, United States
END:VEVENT
BEGIN:VEVENT
DTSTART;TZID=America/Chicago:20260722T193000
DTEND;TZID=America/Chicago:20260722T203000
DTSTAMP:20260422T183723
CREATED:20260120T003710Z
LAST-MODIFIED:20260120T003804Z
UID:44449-1784748600-1784752200@bearnaked.club
SUMMARY:Wednesday evening play party
DESCRIPTION:
URL:https://bearnaked.club/event/4th-saturday-afternoon-steamworks-bear-hump-party-54/
LOCATION:Touche\, 6412 N. Clark\, Chicago\, IL\, 60626\, United States
END:VEVENT
BEGIN:VEVENT
DTSTART;TZID=America/Chicago:20260725T130000
DTEND;TZID=America/Chicago:20260725T180000
DTSTAMP:20260422T183723
CREATED:20260120T003906Z
LAST-MODIFIED:20260120T003906Z
UID:44452-1784984400-1785002400@bearnaked.club
SUMMARY:4th Saturday afternoon Steamworks Bear Hump party
DESCRIPTION:
URL:https://bearnaked.club/event/4th-saturday-afternoon-steamworks-bear-hump-party-55/
LOCATION:Steamworks\, 3246 N. Halsted\, Chicago\, IL\, 60657\, United States
END:VEVENT
BEGIN:VEVENT
DTSTART;TZID=America/Chicago:20260802T150000
DTEND;TZID=America/Chicago:20260802T160000
DTSTAMP:20260422T183723
CREATED:20260120T004136Z
LAST-MODIFIED:20260120T004136Z
UID:44454-1785682800-1785686400@bearnaked.club
SUMMARY:Sunday Afternoon Touche Event
DESCRIPTION:
URL:https://bearnaked.club/event/sunday-afternoon-touche-event-56/
LOCATION:Touche\, 6412 N. Clark\, Chicago\, IL\, 60626\, United States
END:VEVENT
BEGIN:VEVENT
DTSTART;TZID=America/Chicago:20260807T190000
DTEND;TZID=America/Chicago:20260808T020000
DTSTAMP:20260422T183723
CREATED:20260120T004232Z
LAST-MODIFIED:20260120T004232Z
UID:44456-1786129200-1786154400@bearnaked.club
SUMMARY:2nd Friday evening Steamworks Bear Hump party
DESCRIPTION:
URL:https://bearnaked.club/event/2nd-friday-evening-steamworks-bear-hump-party-52/
LOCATION:Steamworks\, 3246 N. Halsted\, Chicago\, IL\, 60657\, United States
END:VEVENT
BEGIN:VEVENT
DTSTART;TZID=America/Chicago:20260815T180000
DTEND;TZID=America/Chicago:20260815T190000
DTSTAMP:20260422T183723
CREATED:20260120T004324Z
LAST-MODIFIED:20260120T004324Z
UID:44458-1786816800-1786820400@bearnaked.club
SUMMARY:Saturday Night Touche Event
DESCRIPTION:
URL:https://bearnaked.club/event/saturday-night-touche-event-87/
LOCATION:Touche\, 6412 N. Clark\, Chicago\, IL\, 60626\, United States
END:VEVENT
BEGIN:VEVENT
DTSTART;TZID=America/Chicago:20260822T130000
DTEND;TZID=America/Chicago:20260822T180000
DTSTAMP:20260422T183723
CREATED:20260120T004609Z
LAST-MODIFIED:20260120T004609Z
UID:44462-1787403600-1787421600@bearnaked.club
SUMMARY:4th Saturday afternoon Steamworks Bear Hump party
DESCRIPTION:
URL:https://bearnaked.club/event/4th-saturday-afternoon-steamworks-bear-hump-party-56/
LOCATION:Steamworks\, 3246 N. Halsted\, Chicago\, IL\, 60657\, United States
END:VEVENT
BEGIN:VEVENT
DTSTART;TZID=America/Chicago:20260826T193000
DTEND;TZID=America/Chicago:20260826T203000
DTSTAMP:20260422T183723
CREATED:20260120T004508Z
LAST-MODIFIED:20260120T004508Z
UID:44460-1787772600-1787776200@bearnaked.club
SUMMARY:Wednesday evening play party
DESCRIPTION:
URL:https://bearnaked.club/event/wednesday-evening-play-party-5/
LOCATION:Touche\, 6412 N. Clark\, Chicago\, IL\, 60626\, United States
END:VEVENT
BEGIN:VEVENT
DTSTART;TZID=America/Chicago:20260906T150000
DTEND;TZID=America/Chicago:20260906T160000
DTSTAMP:20260422T183723
CREATED:20260120T005510Z
LAST-MODIFIED:20260120T005510Z
UID:44464-1788706800-1788710400@bearnaked.club
SUMMARY:Sunday Afternoon Touche Event
DESCRIPTION:
URL:https://bearnaked.club/event/sunday-afternoon-touche-event-57/
LOCATION:Touche\, 6412 N. Clark\, Chicago\, IL\, 60626\, United States
END:VEVENT
BEGIN:VEVENT
DTSTART;TZID=America/Chicago:20260911T190000
DTEND;TZID=America/Chicago:20260912T010000
DTSTAMP:20260422T183723
CREATED:20260120T005606Z
LAST-MODIFIED:20260120T005606Z
UID:44466-1789153200-1789174800@bearnaked.club
SUMMARY:2nd Friday evening Steamworks Bear Hump party
DESCRIPTION:
URL:https://bearnaked.club/event/2nd-friday-evening-steamworks-bear-hump-party-53/
LOCATION:Steamworks\, 3246 N. Halsted\, Chicago\, IL\, 60657\, United States
END:VEVENT
BEGIN:VEVENT
DTSTART;TZID=America/Chicago:20260919T180000
DTEND;TZID=America/Chicago:20260919T190000
DTSTAMP:20260422T183723
CREATED:20260120T005704Z
LAST-MODIFIED:20260120T005704Z
UID:44468-1789840800-1789844400@bearnaked.club
SUMMARY:Saturday Night Touche Event
DESCRIPTION:
URL:https://bearnaked.club/event/saturday-night-touche-event-88/
LOCATION:Touche\, 6412 N. Clark\, Chicago\, IL\, 60626\, United States
END:VEVENT
BEGIN:VEVENT
DTSTART;TZID=America/Chicago:20260923T193000
DTEND;TZID=America/Chicago:20260923T203000
DTSTAMP:20260422T183723
CREATED:20260120T005831Z
LAST-MODIFIED:20260120T005831Z
UID:44470-1790191800-1790195400@bearnaked.club
SUMMARY:Wednesday evening play party
DESCRIPTION:
URL:https://bearnaked.club/event/wednesday-evening-play-party-6/
LOCATION:Touche\, 6412 N. Clark\, Chicago\, IL\, 60626\, United States
END:VEVENT
BEGIN:VEVENT
DTSTART;TZID=America/Chicago:20260926T130000
DTEND;TZID=America/Chicago:20260926T180000
DTSTAMP:20260422T183723
CREATED:20260120T005919Z
LAST-MODIFIED:20260120T005919Z
UID:44472-1790427600-1790445600@bearnaked.club
SUMMARY:4th Saturday afternoon Steamworks Bear Hump party
DESCRIPTION:
URL:https://bearnaked.club/event/4th-saturday-afternoon-steamworks-bear-hump-party-57/
LOCATION:Steamworks\, 3246 N. Halsted\, Chicago\, IL\, 60657\, United States
END:VEVENT
BEGIN:VEVENT
DTSTART;TZID=America/Chicago:20261004T150000
DTEND;TZID=America/Chicago:20261004T160000
DTSTAMP:20260422T183723
CREATED:20260125T000456Z
LAST-MODIFIED:20260125T000456Z
UID:44635-1791126000-1791129600@bearnaked.club
SUMMARY:Sunday Afternoon Touche Event
DESCRIPTION:
URL:https://bearnaked.club/event/sunday-afternoon-touche-event-58/
LOCATION:Touche\, 6412 N. Clark\, Chicago\, IL\, 60626\, United States
END:VEVENT
BEGIN:VEVENT
DTSTART;TZID=America/Chicago:20261009T190000
DTEND;TZID=America/Chicago:20261010T010000
DTSTAMP:20260422T183723
CREATED:20260125T000615Z
LAST-MODIFIED:20260125T000615Z
UID:44637-1791572400-1791594000@bearnaked.club
SUMMARY:2nd Friday evening Steamworks Bear Hump party
DESCRIPTION:
URL:https://bearnaked.club/event/2nd-friday-evening-steamworks-bear-hump-party-54/
LOCATION:Steamworks\, 3246 N. Halsted\, Chicago\, IL\, 60657\, United States
END:VEVENT
BEGIN:VEVENT
DTSTART;TZID=America/Chicago:20261017T180000
DTEND;TZID=America/Chicago:20261017T190000
DTSTAMP:20260422T183723
CREATED:20260125T000730Z
LAST-MODIFIED:20260125T000730Z
UID:44639-1792260000-1792263600@bearnaked.club
SUMMARY:Saturday Night Touche Event
DESCRIPTION:
URL:https://bearnaked.club/event/saturday-night-touche-event-89/
LOCATION:Touche\, 6412 N. Clark\, Chicago\, IL\, 60626\, United States
END:VEVENT
BEGIN:VEVENT
DTSTART;TZID=America/Chicago:20261024T130000
DTEND;TZID=America/Chicago:20261024T180000
DTSTAMP:20260422T183723
CREATED:20260125T000935Z
LAST-MODIFIED:20260125T000935Z
UID:44643-1792846800-1792864800@bearnaked.club
SUMMARY:4th Saturday afternoon Steamworks Bear Hump party
DESCRIPTION:
URL:https://bearnaked.club/event/4th-saturday-afternoon-steamworks-bear-hump-party-58/
END:VEVENT
BEGIN:VEVENT
DTSTART;TZID=America/Chicago:20261028T193000
DTEND;TZID=America/Chicago:20261028T203000
DTSTAMP:20260422T183723
CREATED:20260125T000829Z
LAST-MODIFIED:20260125T000829Z
UID:44641-1793215800-1793219400@bearnaked.club
SUMMARY:Wednesday evening play party
DESCRIPTION:
URL:https://bearnaked.club/event/wednesday-evening-play-party-7/
END:VEVENT
BEGIN:VEVENT
DTSTART;TZID=America/Chicago:20261101T150000
DTEND;TZID=America/Chicago:20261101T160000
DTSTAMP:20260422T183723
CREATED:20260125T001056Z
LAST-MODIFIED:20260125T001056Z
UID:44645-1793545200-1793548800@bearnaked.club
SUMMARY:Sunday Afternoon Touche Event
DESCRIPTION:
URL:https://bearnaked.club/event/sunday-afternoon-touche-event-59/
LOCATION:Touche\, 6412 N. Clark\, Chicago\, IL\, 60626\, United States
END:VEVENT
BEGIN:VEVENT
DTSTART;TZID=America/Chicago:20261113T190000
DTEND;TZID=America/Chicago:20261114T010000
DTSTAMP:20260422T183723
CREATED:20260125T001218Z
LAST-MODIFIED:20260125T001218Z
UID:44647-1794596400-1794618000@bearnaked.club
SUMMARY:2nd Friday evening Steamworks Bear Hump party
DESCRIPTION:
URL:https://bearnaked.club/event/2nd-friday-evening-steamworks-bear-hump-party-55/
LOCATION:Steamworks\, 3246 N. Halsted\, Chicago\, IL\, 60657\, United States
END:VEVENT
BEGIN:VEVENT
DTSTART;TZID=America/Chicago:20261121T180000
DTEND;TZID=America/Chicago:20261121T190000
DTSTAMP:20260422T183723
CREATED:20260125T001342Z
LAST-MODIFIED:20260125T001342Z
UID:44649-1795284000-1795287600@bearnaked.club
SUMMARY:Saturday Night Touche Event
DESCRIPTION:
URL:https://bearnaked.club/event/saturday-night-touche-event-90/
LOCATION:Touche\, 6412 N. Clark\, Chicago\, IL\, 60626\, United States
END:VEVENT
BEGIN:VEVENT
DTSTART;TZID=America/Chicago:20261125T193000
DTEND;TZID=America/Chicago:20261125T203000
DTSTAMP:20260422T183723
CREATED:20260125T001448Z
LAST-MODIFIED:20260125T002615Z
UID:44651-1795635000-1795638600@bearnaked.club
SUMMARY:Wednesday evening play party
DESCRIPTION:
URL:https://bearnaked.club/event/4th-saturday-afternoon-steamworks-bear-hump-party-59/
LOCATION:Touche\, 6412 N. Clark\, Chicago\, IL\, 60626\, United States
END:VEVENT
BEGIN:VEVENT
DTSTART;TZID=America/Chicago:20261128T130000
DTEND;TZID=America/Chicago:20261128T180000
DTSTAMP:20260422T183723
CREATED:20260125T001543Z
LAST-MODIFIED:20260125T001543Z
UID:44653-1795870800-1795888800@bearnaked.club
SUMMARY:4th Saturday afternoon Steamworks Bear Hump party
DESCRIPTION:
URL:https://bearnaked.club/event/4th-saturday-afternoon-steamworks-bear-hump-party-60/
LOCATION:Steamworks\, 3246 N. Halsted\, Chicago\, IL\, 60657\, United States
END:VEVENT
BEGIN:VEVENT
DTSTART;TZID=America/Chicago:20261206T150000
DTEND;TZID=America/Chicago:20261206T160000
DTSTAMP:20260422T183723
CREATED:20260125T001710Z
LAST-MODIFIED:20260125T001710Z
UID:44655-1796569200-1796572800@bearnaked.club
SUMMARY:Sunday Afternoon Touche Event
DESCRIPTION:
URL:https://bearnaked.club/event/sunday-afternoon-touche-event-60/
LOCATION:Touche\, 6412 N. Clark\, Chicago\, IL\, 60626\, United States
END:VEVENT
BEGIN:VEVENT
DTSTART;TZID=America/Chicago:20261211T190000
DTEND;TZID=America/Chicago:20261212T010000
DTSTAMP:20260422T183723
CREATED:20260125T001807Z
LAST-MODIFIED:20260125T001807Z
UID:44657-1797015600-1797037200@bearnaked.club
SUMMARY:2nd Friday evening Steamworks Bear Hump party
DESCRIPTION:
URL:https://bearnaked.club/event/2nd-friday-evening-steamworks-bear-hump-party-56/
LOCATION:Steamworks\, 3246 N. Halsted\, Chicago\, IL\, 60657\, United States
END:VEVENT
BEGIN:VEVENT
DTSTART;TZID=America/Chicago:20261219T180000
DTEND;TZID=America/Chicago:20261219T190000
DTSTAMP:20260422T183723
CREATED:20260125T001928Z
LAST-MODIFIED:20260125T001928Z
UID:44659-1797703200-1797706800@bearnaked.club
SUMMARY:Saturday Night Touche Event
DESCRIPTION:
URL:https://bearnaked.club/event/saturday-night-touche-event-91/
END:VEVENT
END:VCALENDAR